BEGIN:VCALENDAR
VERSION:2.0
PRODID:-//Rhodes School for the Performing Arts - ECPv6.15.17//NONSGML v1.0//EN
CALSCALE:GREGORIAN
METHOD:PUBLISH
X-ORIGINAL-URL:https://rhodesschool.org
X-WR-CALDESC:Events for Rhodes School for the Performing Arts
REFRESH-INTERVAL;VALUE=DURATION:PT1H
X-Robots-Tag:noindex
X-PUBLISHED-TTL:PT1H
BEGIN:VTIMEZONE
TZID:America/Chicago
BEGIN:DAYLIGHT
TZOFFSETFROM:-0600
TZOFFSETTO:-0500
TZNAME:CDT
DTSTART:20240310T080000
END:DAYLIGHT
BEGIN:STANDARD
TZOFFSETFROM:-0500
TZOFFSETTO:-0600
TZNAME:CST
DTSTART:20241103T070000
END:STANDARD
BEGIN:DAYLIGHT
TZOFFSETFROM:-0600
TZOFFSETTO:-0500
TZNAME:CDT
DTSTART:20250309T080000
END:DAYLIGHT
BEGIN:STANDARD
TZOFFSETFROM:-0500
TZOFFSETTO:-0600
TZNAME:CST
DTSTART:20251102T070000
END:STANDARD
BEGIN:DAYLIGHT
TZOFFSETFROM:-0600
TZOFFSETTO:-0500
TZNAME:CDT
DTSTART:20260308T080000
END:DAYLIGHT
BEGIN:STANDARD
TZOFFSETFROM:-0500
TZOFFSETTO:-0600
TZNAME:CST
DTSTART:20261101T070000
END:STANDARD
END:VTIMEZONE
BEGIN:VEVENT
DTSTART;VALUE=DATE:20250326
DTEND;VALUE=DATE:20250327
DTSTAMP:20260420T140341
CREATED:20250305T185717Z
LAST-MODIFIED:20250305T185717Z
UID:12628-1742947200-1743033599@rhodesschool.org
SUMMARY:DBA #3 - Reading
DESCRIPTION:
URL:https://rhodesschool.org/event/dba-3-reading/
CATEGORIES:District Dates & Events
ATTACH;FMTTYPE=image/png:https://rhodesschool.org/wp-content/uploads/2025/03/DBA-Testing-March-2025-1.png
END:VEVENT
BEGIN:VEVENT
DTSTART;VALUE=DATE:20250326
DTEND;VALUE=DATE:20250327
DTSTAMP:20260420T140341
CREATED:20250305T211055Z
LAST-MODIFIED:20250305T211055Z
UID:12647-1742947200-1743033599@rhodesschool.org
SUMMARY:Mock STAAR Testing - Reading
DESCRIPTION:
URL:https://rhodesschool.org/event/mock-staar-testing-reading-2/
CATEGORIES:District Dates & Events
ATTACH;FMTTYPE=image/png:https://rhodesschool.org/wp-content/uploads/2025/03/STAAR-Mock-Testing-2025-1.png
END:VEVENT
END:VCALENDAR