BEGIN:VCALENDAR
VERSION:2.0
PRODID:-//Rhodes School for the Performing Arts - ECPv6.15.17//NONSGML v1.0//EN
CALSCALE:GREGORIAN
METHOD:PUBLISH
X-ORIGINAL-URL:https://rhodesschool.org
X-WR-CALDESC:Events for Rhodes School for the Performing Arts
REFRESH-INTERVAL;VALUE=DURATION:PT1H
X-Robots-Tag:noindex
X-PUBLISHED-TTL:PT1H
BEGIN:VTIMEZONE
TZID:America/Chicago
BEGIN:DAYLIGHT
TZOFFSETFROM:-0600
TZOFFSETTO:-0500
TZNAME:CDT
DTSTART:20230312T080000
END:DAYLIGHT
BEGIN:STANDARD
TZOFFSETFROM:-0500
TZOFFSETTO:-0600
TZNAME:CST
DTSTART:20231105T070000
END:STANDARD
BEGIN:DAYLIGHT
TZOFFSETFROM:-0600
TZOFFSETTO:-0500
TZNAME:CDT
DTSTART:20240310T080000
END:DAYLIGHT
BEGIN:STANDARD
TZOFFSETFROM:-0500
TZOFFSETTO:-0600
TZNAME:CST
DTSTART:20241103T070000
END:STANDARD
BEGIN:DAYLIGHT
TZOFFSETFROM:-0600
TZOFFSETTO:-0500
TZNAME:CDT
DTSTART:20250309T080000
END:DAYLIGHT
BEGIN:STANDARD
TZOFFSETFROM:-0500
TZOFFSETTO:-0600
TZNAME:CST
DTSTART:20251102T070000
END:STANDARD
END:VTIMEZONE
BEGIN:VEVENT
DTSTART;VALUE=DATE:20241014
DTEND;VALUE=DATE:20241019
DTSTAMP:20260420T203900
CREATED:20240925T151924Z
LAST-MODIFIED:20240926T201746Z
UID:12150-1728864000-1729295999@rhodesschool.org
SUMMARY:National School Lunch Week 2024
DESCRIPTION:
URL:https://rhodesschool.org/event/national-school-lunch-week24/
CATEGORIES:District Dates & Events
END:VEVENT
BEGIN:VEVENT
DTSTART;VALUE=DATE:20241016
DTEND;VALUE=DATE:20241017
DTSTAMP:20260420T203900
CREATED:20240927T180733Z
LAST-MODIFIED:20240927T180733Z
UID:12218-1729036800-1729123199@rhodesschool.org
SUMMARY:Pink Out Dress Up Day
DESCRIPTION:
URL:https://rhodesschool.org/event/pink-out-dress-up-day/
CATEGORIES:District Dates & Events
END:VEVENT
BEGIN:VEVENT
DTSTART;TZID=America/Chicago:20241016T103000
DTEND;TZID=America/Chicago:20241016T130000
DTSTAMP:20260420T203900
CREATED:20240926T200016Z
LAST-MODIFIED:20240926T200016Z
UID:12185-1729074600-1729083600@rhodesschool.org
SUMMARY:Parent Lunch & Learn
DESCRIPTION:
URL:https://rhodesschool.org/event/parent-lunch-learn-2/
CATEGORIES:District Dates & Events
END:VEVENT
BEGIN:VEVENT
DTSTART;TZID=America/Chicago:20241016T130000
DTEND;TZID=America/Chicago:20241016T153000
DTSTAMP:20260420T203900
CREATED:20241001T141930Z
LAST-MODIFIED:20241001T141930Z
UID:12231-1729083600-1729092600@rhodesschool.org
SUMMARY:Pinktober Pie Out Pep Rally
DESCRIPTION:
URL:https://rhodesschool.org/event/pink-out-pie-out24/
CATEGORIES:District Dates & Events
END:VEVENT
END:VCALENDAR