BEGIN:VCALENDAR
VERSION:2.0
PRODID:-//Rhodes School for the Performing Arts - ECPv6.15.17//NONSGML v1.0//EN
CALSCALE:GREGORIAN
METHOD:PUBLISH
X-WR-CALNAME:Rhodes School for the Performing Arts
X-ORIGINAL-URL:https://rhodesschool.org
X-WR-CALDESC:Events for Rhodes School for the Performing Arts
REFRESH-INTERVAL;VALUE=DURATION:PT1H
X-Robots-Tag:noindex
X-PUBLISHED-TTL:PT1H
BEGIN:VTIMEZONE
TZID:America/Chicago
BEGIN:DAYLIGHT
TZOFFSETFROM:-0600
TZOFFSETTO:-0500
TZNAME:CDT
DTSTART:20230312T080000
END:DAYLIGHT
BEGIN:STANDARD
TZOFFSETFROM:-0500
TZOFFSETTO:-0600
TZNAME:CST
DTSTART:20231105T070000
END:STANDARD
BEGIN:DAYLIGHT
TZOFFSETFROM:-0600
TZOFFSETTO:-0500
TZNAME:CDT
DTSTART:20240310T080000
END:DAYLIGHT
BEGIN:STANDARD
TZOFFSETFROM:-0500
TZOFFSETTO:-0600
TZNAME:CST
DTSTART:20241103T070000
END:STANDARD
BEGIN:DAYLIGHT
TZOFFSETFROM:-0600
TZOFFSETTO:-0500
TZNAME:CDT
DTSTART:20250309T080000
END:DAYLIGHT
BEGIN:STANDARD
TZOFFSETFROM:-0500
TZOFFSETTO:-0600
TZNAME:CST
DTSTART:20251102T070000
END:STANDARD
END:VTIMEZONE
BEGIN:VEVENT
DTSTART;TZID=America/Chicago:20240815T180000
DTEND;TZID=America/Chicago:20240815T180000
DTSTAMP:20260421T043222
CREATED:20240809T204505Z
LAST-MODIFIED:20240809T204505Z
UID:11665-1723744800-1723744800@rhodesschool.org
SUMMARY:Cariina Parent App Virtual Training
DESCRIPTION:
URL:https://rhodesschool.org/event/cariina-parent-app-virtual-training/
CATEGORIES:District Dates & Events
ATTACH;FMTTYPE=image/png:https://rhodesschool.org/wp-content/uploads/2024/08/Transportation-Cariina-Parent-App-training-0824.png
END:VEVENT
END:VCALENDAR