BEGIN:VCALENDAR
VERSION:2.0
PRODID:-//Rhodes School for the Performing Arts - ECPv6.15.17//NONSGML v1.0//EN
CALSCALE:GREGORIAN
METHOD:PUBLISH
X-ORIGINAL-URL:https://rhodesschool.org
X-WR-CALDESC:Events for Rhodes School for the Performing Arts
REFRESH-INTERVAL;VALUE=DURATION:PT1H
X-Robots-Tag:noindex
X-PUBLISHED-TTL:PT1H
BEGIN:VTIMEZONE
TZID:America/Chicago
BEGIN:DAYLIGHT
TZOFFSETFROM:-0600
TZOFFSETTO:-0500
TZNAME:CDT
DTSTART:20230312T080000
END:DAYLIGHT
BEGIN:STANDARD
TZOFFSETFROM:-0500
TZOFFSETTO:-0600
TZNAME:CST
DTSTART:20231105T070000
END:STANDARD
BEGIN:DAYLIGHT
TZOFFSETFROM:-0600
TZOFFSETTO:-0500
TZNAME:CDT
DTSTART:20240310T080000
END:DAYLIGHT
BEGIN:STANDARD
TZOFFSETFROM:-0500
TZOFFSETTO:-0600
TZNAME:CST
DTSTART:20241103T070000
END:STANDARD
BEGIN:DAYLIGHT
TZOFFSETFROM:-0600
TZOFFSETTO:-0500
TZNAME:CDT
DTSTART:20250309T080000
END:DAYLIGHT
BEGIN:STANDARD
TZOFFSETFROM:-0500
TZOFFSETTO:-0600
TZNAME:CST
DTSTART:20251102T070000
END:STANDARD
END:VTIMEZONE
BEGIN:VEVENT
DTSTART;TZID=America/Chicago:20240530T080000
DTEND;TZID=America/Chicago:20240705T140000
DTSTAMP:20260421T043414
CREATED:20240522T193748Z
LAST-MODIFIED:20240522T193748Z
UID:11445-1717056000-1720188000@rhodesschool.org
SUMMARY:CREW Camp: Summer Academic & Enrichment Camp
DESCRIPTION:
URL:https://rhodesschool.org/event/summer-crew-camp24/
CATEGORIES:District Dates & Events
END:VEVENT
BEGIN:VEVENT
DTSTART;TZID=America/Chicago:20240603T150000
DTEND;TZID=America/Chicago:20240606T170000
DTSTAMP:20260421T043414
CREATED:20240430T204005Z
LAST-MODIFIED:20240531T180020Z
UID:11348-1717426800-1717693200@rhodesschool.org
SUMMARY:Cheerleading Tryouts Clinic
DESCRIPTION:
URL:https://rhodesschool.org/event/cheerleading-tryouts-clinic24/
LOCATION:RSPA Northshore Campus\, 13334 Wallisville Road\, Houston\, TX\, 77049\, United States
CATEGORIES:District Dates & Events
END:VEVENT
END:VCALENDAR