BEGIN:VCALENDAR
VERSION:2.0
PRODID:-//Rhodes School for the Performing Arts - ECPv6.15.17//NONSGML v1.0//EN
CALSCALE:GREGORIAN
METHOD:PUBLISH
X-ORIGINAL-URL:https://rhodesschool.org
X-WR-CALDESC:Events for Rhodes School for the Performing Arts
REFRESH-INTERVAL;VALUE=DURATION:PT1H
X-Robots-Tag:noindex
X-PUBLISHED-TTL:PT1H
BEGIN:VTIMEZONE
TZID:America/Chicago
BEGIN:DAYLIGHT
TZOFFSETFROM:-0600
TZOFFSETTO:-0500
TZNAME:CDT
DTSTART:20240310T080000
END:DAYLIGHT
BEGIN:STANDARD
TZOFFSETFROM:-0500
TZOFFSETTO:-0600
TZNAME:CST
DTSTART:20241103T070000
END:STANDARD
BEGIN:DAYLIGHT
TZOFFSETFROM:-0600
TZOFFSETTO:-0500
TZNAME:CDT
DTSTART:20250309T080000
END:DAYLIGHT
BEGIN:STANDARD
TZOFFSETFROM:-0500
TZOFFSETTO:-0600
TZNAME:CST
DTSTART:20251102T070000
END:STANDARD
BEGIN:DAYLIGHT
TZOFFSETFROM:-0600
TZOFFSETTO:-0500
TZNAME:CDT
DTSTART:20260308T080000
END:DAYLIGHT
BEGIN:STANDARD
TZOFFSETFROM:-0500
TZOFFSETTO:-0600
TZNAME:CST
DTSTART:20261101T070000
END:STANDARD
END:VTIMEZONE
BEGIN:VEVENT
DTSTART;VALUE=DATE:20250401
DTEND;VALUE=DATE:20250402
DTSTAMP:20260420T092528
CREATED:20250305T185759Z
LAST-MODIFIED:20250305T185759Z
UID:12630-1743465600-1743551999@rhodesschool.org
SUMMARY:DBA #3 - Math
DESCRIPTION:
URL:https://rhodesschool.org/event/dba-3-math/
CATEGORIES:District Dates & Events
ATTACH;FMTTYPE=image/png:https://rhodesschool.org/wp-content/uploads/2025/03/DBA-Testing-March-2025-1.png
END:VEVENT
BEGIN:VEVENT
DTSTART;VALUE=DATE:20250401
DTEND;VALUE=DATE:20250402
DTSTAMP:20260420T092528
CREATED:20250305T211000Z
LAST-MODIFIED:20250305T211000Z
UID:12645-1743465600-1743551999@rhodesschool.org
SUMMARY:Mock STAAR Testing - Math
DESCRIPTION:
URL:https://rhodesschool.org/event/mock-staar-testing-math/
CATEGORIES:District Dates & Events
ATTACH;FMTTYPE=image/png:https://rhodesschool.org/wp-content/uploads/2025/03/STAAR-Mock-Testing-2025-1.png
END:VEVENT
BEGIN:VEVENT
DTSTART;TZID=America/Chicago:20250401T090000
DTEND;TZID=America/Chicago:20250401T100000
DTSTAMP:20260420T092528
CREATED:20250327T173246Z
LAST-MODIFIED:20250331T160707Z
UID:12686-1743498000-1743501600@rhodesschool.org
SUMMARY:Pow Wow with the Principals
DESCRIPTION:
URL:https://rhodesschool.org/event/pow-wow-with-the-principals-april2025/
CATEGORIES:District Dates & Events
ATTACH;FMTTYPE=image/png:https://rhodesschool.org/wp-content/uploads/2025/03/Pow-Wow-with-the-Principal-April-2025-1.png
END:VEVENT
BEGIN:VEVENT
DTSTART;VALUE=DATE:20250403
DTEND;VALUE=DATE:20250404
DTSTAMP:20260420T092528
CREATED:20250328T152128Z
LAST-MODIFIED:20250328T152128Z
UID:12699-1743638400-1743724799@rhodesschool.org
SUMMARY:PreK & Kinder Graduation Picture Day
DESCRIPTION:
URL:https://rhodesschool.org/event/prek-kinder-graduation-picture-day/
CATEGORIES:District Dates & Events
ATTACH;FMTTYPE=image/png:https://rhodesschool.org/wp-content/uploads/2025/03/PreK-Kinder-graduation-picture-day.png
END:VEVENT
BEGIN:VEVENT
DTSTART;TZID=America/Chicago:20250404T140000
DTEND;TZID=America/Chicago:20250404T180000
DTSTAMP:20260420T092528
CREATED:20250327T173431Z
LAST-MODIFIED:20250327T173431Z
UID:12689-1743775200-1743789600@rhodesschool.org
SUMMARY:Spring Fling Hawaiian Luau Dance
DESCRIPTION:
URL:https://rhodesschool.org/event/spring-fling-hawaiian-luau-dance/
CATEGORIES:District Dates & Events
ATTACH;FMTTYPE=image/png:https://rhodesschool.org/wp-content/uploads/2025/03/Spring-Fling-Hawaiian-Luau-Dazzling-Dolls-April-2025.png
END:VEVENT
BEGIN:VEVENT
DTSTART;TZID=America/Chicago:20250405T080000
DTEND;TZID=America/Chicago:20250405T140000
DTSTAMP:20260420T092528
CREATED:20250328T193512Z
LAST-MODIFIED:20250328T193512Z
UID:12715-1743840000-1743861600@rhodesschool.org
SUMMARY:Fine Arts Student Team Building Workshop
DESCRIPTION:
URL:https://rhodesschool.org/event/fine-arts-student-workshop/
CATEGORIES:District Dates & Events
ATTACH;FMTTYPE=image/png:https://rhodesschool.org/wp-content/uploads/2025/03/Fine-Art-Student-Team-Building-Workshop-April-2025.png
END:VEVENT
BEGIN:VEVENT
DTSTART;VALUE=DATE:20250409
DTEND;VALUE=DATE:20250410
DTSTAMP:20260420T092528
CREATED:20250327T182733Z
LAST-MODIFIED:20250328T152043Z
UID:12693-1744156800-1744243199@rhodesschool.org
SUMMARY:Spring & Class Picture Day 2025
DESCRIPTION:
URL:https://rhodesschool.org/event/spring-picture-day-25/
CATEGORIES:District Dates & Events
ATTACH;FMTTYPE=image/png:https://rhodesschool.org/wp-content/uploads/2025/03/Spring-Class-Picture-day-2025.png
END:VEVENT
BEGIN:VEVENT
DTSTART;TZID=America/Chicago:20250410T170000
DTEND;TZID=America/Chicago:20250410T183000
DTSTAMP:20260420T092528
CREATED:20250328T184421Z
LAST-MODIFIED:20250328T184421Z
UID:12704-1744304400-1744309800@rhodesschool.org
SUMMARY:Racing to STAAR Academic Night
DESCRIPTION:
URL:https://rhodesschool.org/event/racing-to-staar-academic-night/
CATEGORIES:District Dates & Events
ATTACH;FMTTYPE=image/png:https://rhodesschool.org/wp-content/uploads/2025/03/Raceway-STAAR-Academic-Night-April-2025.png
END:VEVENT
BEGIN:VEVENT
DTSTART;VALUE=DATE:20250415
DTEND;VALUE=DATE:20250416
DTSTAMP:20260420T092528
CREATED:20250305T180207Z
LAST-MODIFIED:20250407T155853Z
UID:12612-1744675200-1744761599@rhodesschool.org
SUMMARY:STAAR Testing - Reading
DESCRIPTION:
URL:https://rhodesschool.org/event/staar-testing-reading/
CATEGORIES:District Dates & Events
ATTACH;FMTTYPE=image/png:https://rhodesschool.org/wp-content/uploads/2025/04/STAAR-Testing-2025.png
END:VEVENT
BEGIN:VEVENT
DTSTART;VALUE=DATE:20250418
DTEND;VALUE=DATE:20250419
DTSTAMP:20260420T092528
CREATED:20250328T152319Z
LAST-MODIFIED:20250328T152339Z
UID:12701-1744934400-1745020799@rhodesschool.org
SUMMARY:Staff/Student Holiday - Good Friday
DESCRIPTION:
URL:https://rhodesschool.org/event/good-friday-25/
CATEGORIES:District Dates & Events
ATTACH;FMTTYPE=image/png:https://rhodesschool.org/wp-content/uploads/2025/03/StaffStudent-Holiday-Good-Friday-2025.png
END:VEVENT
BEGIN:VEVENT
DTSTART;VALUE=DATE:20250423
DTEND;VALUE=DATE:20250424
DTSTAMP:20260420T092528
CREATED:20250305T180313Z
LAST-MODIFIED:20250407T160027Z
UID:12615-1745366400-1745452799@rhodesschool.org
SUMMARY:STAAR Testing - Science
DESCRIPTION:
URL:https://rhodesschool.org/event/staar-testing-science/
CATEGORIES:District Dates & Events
ATTACH;FMTTYPE=image/png:https://rhodesschool.org/wp-content/uploads/2025/04/STAAR-Testing-2025.png
END:VEVENT
BEGIN:VEVENT
DTSTART;VALUE=DATE:20250424
DTEND;VALUE=DATE:20250425
DTSTAMP:20260420T092528
CREATED:20250305T180352Z
LAST-MODIFIED:20250407T160115Z
UID:12617-1745452800-1745539199@rhodesschool.org
SUMMARY:STAAR Testing - Social Studies
DESCRIPTION:
URL:https://rhodesschool.org/event/staar-testing-social-studies/
CATEGORIES:District Dates & Events
ATTACH;FMTTYPE=image/png:https://rhodesschool.org/wp-content/uploads/2025/04/STAAR-Testing-2025.png
END:VEVENT
BEGIN:VEVENT
DTSTART;TZID=America/Chicago:20250426T070000
DTEND;TZID=America/Chicago:20250426T140000
DTSTAMP:20260420T092528
CREATED:20250401T180437Z
LAST-MODIFIED:20250401T180437Z
UID:12747-1745650800-1745676000@rhodesschool.org
SUMMARY:Kids Zone
DESCRIPTION:
URL:https://rhodesschool.org/event/kids-zone/
CATEGORIES:District Dates & Events
ATTACH;FMTTYPE=image/jpeg:https://rhodesschool.org/wp-content/uploads/2025/04/African-American-Male-Wellness-Agency-Kids-Zone-event-April-2025.jpeg
END:VEVENT
BEGIN:VEVENT
DTSTART;VALUE=DATE:20250430
DTEND;VALUE=DATE:20250501
DTSTAMP:20260420T092528
CREATED:20250305T180425Z
LAST-MODIFIED:20250407T160413Z
UID:12619-1745971200-1746057599@rhodesschool.org
SUMMARY:STAAR Testing - Math
DESCRIPTION:
URL:https://rhodesschool.org/event/staar-testing-math/
CATEGORIES:District Dates & Events
ATTACH;FMTTYPE=image/png:https://rhodesschool.org/wp-content/uploads/2025/04/STAAR-Testing-2025.png
END:VEVENT
END:VCALENDAR