BEGIN:VCALENDAR
VERSION:2.0
PRODID:-//Rhodes School for the Performing Arts - ECPv6.15.17//NONSGML v1.0//EN
CALSCALE:GREGORIAN
METHOD:PUBLISH
X-WR-CALNAME:Rhodes School for the Performing Arts
X-ORIGINAL-URL:https://rhodesschool.org
X-WR-CALDESC:Events for Rhodes School for the Performing Arts
REFRESH-INTERVAL;VALUE=DURATION:PT1H
X-Robots-Tag:noindex
X-PUBLISHED-TTL:PT1H
BEGIN:VTIMEZONE
TZID:America/Chicago
BEGIN:DAYLIGHT
TZOFFSETFROM:-0600
TZOFFSETTO:-0500
TZNAME:CDT
DTSTART:20230312T080000
END:DAYLIGHT
BEGIN:STANDARD
TZOFFSETFROM:-0500
TZOFFSETTO:-0600
TZNAME:CST
DTSTART:20231105T070000
END:STANDARD
BEGIN:DAYLIGHT
TZOFFSETFROM:-0600
TZOFFSETTO:-0500
TZNAME:CDT
DTSTART:20240310T080000
END:DAYLIGHT
BEGIN:STANDARD
TZOFFSETFROM:-0500
TZOFFSETTO:-0600
TZNAME:CST
DTSTART:20241103T070000
END:STANDARD
BEGIN:DAYLIGHT
TZOFFSETFROM:-0600
TZOFFSETTO:-0500
TZNAME:CDT
DTSTART:20250309T080000
END:DAYLIGHT
BEGIN:STANDARD
TZOFFSETFROM:-0500
TZOFFSETTO:-0600
TZNAME:CST
DTSTART:20251102T070000
END:STANDARD
END:VTIMEZONE
BEGIN:VEVENT
DTSTART;TZID=America/Chicago:20241203T090000
DTEND;TZID=America/Chicago:20241203T090000
DTSTAMP:20260420T153445
CREATED:20241017T203512Z
LAST-MODIFIED:20241017T203512Z
UID:12346-1733216400-1733216400@rhodesschool.org
SUMMARY:Pow Wow with the Principals
DESCRIPTION:
URL:https://rhodesschool.org/event/pow-wow-with-the-principals-dec24/
CATEGORIES:District Dates & Events
END:VEVENT
BEGIN:VEVENT
DTSTART;TZID=America/Chicago:20241204T073000
DTEND;TZID=America/Chicago:20241204T080000
DTSTAMP:20260420T153445
CREATED:20241120T194217Z
LAST-MODIFIED:20241120T194217Z
UID:12441-1733297400-1733299200@rhodesschool.org
SUMMARY:Donuts and Hot Cocoa Part I
DESCRIPTION:
URL:https://rhodesschool.org/event/donuts-and-hot-cocoa-part-i/
CATEGORIES:District Dates & Events
END:VEVENT
BEGIN:VEVENT
DTSTART;TZID=America/Chicago:20241205T090000
DTEND;TZID=America/Chicago:20241205T093000
DTSTAMP:20260420T153445
CREATED:20241017T203411Z
LAST-MODIFIED:20241017T203411Z
UID:12342-1733389200-1733391000@rhodesschool.org
SUMMARY:Coffee with the Counselor
DESCRIPTION:
URL:https://rhodesschool.org/event/cwtc-dec24/
CATEGORIES:District Dates & Events
END:VEVENT
BEGIN:VEVENT
DTSTART;TZID=America/Chicago:20241212T183000
DTEND;TZID=America/Chicago:20241212T200000
DTSTAMP:20260420T153445
CREATED:20241017T203720Z
LAST-MODIFIED:20241118T214516Z
UID:12348-1734028200-1734033600@rhodesschool.org
SUMMARY:A Night to Remember: A PreK-2nd Grade Christmas Production
DESCRIPTION:
URL:https://rhodesschool.org/event/a-night-to-remember24/
LOCATION:Anderson Center for the Arts\, 13334 Wallisville Road\, Houston\, TX\, 77049\, United States
CATEGORIES:District Dates & Events
END:VEVENT
BEGIN:VEVENT
DTSTART;VALUE=DATE:20241216
DTEND;VALUE=DATE:20241217
DTSTAMP:20260420T153445
CREATED:20241120T194829Z
LAST-MODIFIED:20241120T194829Z
UID:12449-1734307200-1734393599@rhodesschool.org
SUMMARY:Campus Christmas Movie Day
DESCRIPTION:
URL:https://rhodesschool.org/event/campus-christmas-movie-day24/
CATEGORIES:District Dates & Events
END:VEVENT
BEGIN:VEVENT
DTSTART;TZID=America/Chicago:20241217T103000
DTEND;TZID=America/Chicago:20241217T140000
DTSTAMP:20260420T153445
CREATED:20241127T060844Z
LAST-MODIFIED:20241127T060844Z
UID:12486-1734431400-1734444000@rhodesschool.org
SUMMARY:District S.T.EA.M. Day '24
DESCRIPTION:
URL:https://rhodesschool.org/event/district-s-t-ea-m-day-24/
CATEGORIES:District Dates & Events
END:VEVENT
BEGIN:VEVENT
DTSTART;TZID=America/Chicago:20241218T073000
DTEND;TZID=America/Chicago:20241218T080000
DTSTAMP:20260420T153445
CREATED:20241120T194348Z
LAST-MODIFIED:20241120T194348Z
UID:12445-1734507000-1734508800@rhodesschool.org
SUMMARY:Donuts & Hot Cocoa Part III
DESCRIPTION:
URL:https://rhodesschool.org/event/donuts-hot-cocoa-part-iii/
CATEGORIES:District Dates & Events
END:VEVENT
BEGIN:VEVENT
DTSTART;TZID=America/Chicago:20241218T090000
DTEND;TZID=America/Chicago:20241218T140000
DTSTAMP:20260420T153445
CREATED:20241120T194733Z
LAST-MODIFIED:20241120T194733Z
UID:12447-1734512400-1734530400@rhodesschool.org
SUMMARY:RSPA's Got Talent
DESCRIPTION:
URL:https://rhodesschool.org/event/rspas-got-talent24/
CATEGORIES:District Dates & Events
END:VEVENT
BEGIN:VEVENT
DTSTART;TZID=America/Chicago:20241219T080000
DTEND;TZID=America/Chicago:20241219T110000
DTSTAMP:20260420T153445
CREATED:20241127T061040Z
LAST-MODIFIED:20241127T061040Z
UID:12488-1734595200-1734606000@rhodesschool.org
SUMMARY:S.N.O.W. Day Perfect Attendance Party
DESCRIPTION:
URL:https://rhodesschool.org/event/snow-day-perfect-attendance-party/
CATEGORIES:District Dates & Events
END:VEVENT
BEGIN:VEVENT
DTSTART;TZID=America/Chicago:20241219T170000
DTEND;TZID=America/Chicago:20241219T183000
DTSTAMP:20260420T153445
CREATED:20241120T175653Z
LAST-MODIFIED:20241120T193932Z
UID:12434-1734627600-1734633000@rhodesschool.org
SUMMARY:21st Century Holiday Showcase
DESCRIPTION:
URL:https://rhodesschool.org/event/21st-century-holiday-showcase/
CATEGORIES:District Dates & Events
END:VEVENT
BEGIN:VEVENT
DTSTART;VALUE=DATE:20241220
DTEND;VALUE=DATE:20241221
DTSTAMP:20260420T153445
CREATED:20241017T205631Z
LAST-MODIFIED:20241017T205631Z
UID:12353-1734652800-1734739199@rhodesschool.org
SUMMARY:Staff Development Day
DESCRIPTION:
URL:https://rhodesschool.org/event/staff-development-day/
CATEGORIES:District Dates & Events
END:VEVENT
END:VCALENDAR