BEGIN:VCALENDAR
VERSION:2.0
PRODID:-//Rhodes School for the Performing Arts - ECPv6.15.17//NONSGML v1.0//EN
CALSCALE:GREGORIAN
METHOD:PUBLISH
X-WR-CALNAME:Rhodes School for the Performing Arts
X-ORIGINAL-URL:https://rhodesschool.org
X-WR-CALDESC:Events for Rhodes School for the Performing Arts
REFRESH-INTERVAL;VALUE=DURATION:PT1H
X-Robots-Tag:noindex
X-PUBLISHED-TTL:PT1H
BEGIN:VTIMEZONE
TZID:America/Chicago
BEGIN:DAYLIGHT
TZOFFSETFROM:-0600
TZOFFSETTO:-0500
TZNAME:CDT
DTSTART:20230312T080000
END:DAYLIGHT
BEGIN:STANDARD
TZOFFSETFROM:-0500
TZOFFSETTO:-0600
TZNAME:CST
DTSTART:20231105T070000
END:STANDARD
BEGIN:DAYLIGHT
TZOFFSETFROM:-0600
TZOFFSETTO:-0500
TZNAME:CDT
DTSTART:20240310T080000
END:DAYLIGHT
BEGIN:STANDARD
TZOFFSETFROM:-0500
TZOFFSETTO:-0600
TZNAME:CST
DTSTART:20241103T070000
END:STANDARD
BEGIN:DAYLIGHT
TZOFFSETFROM:-0600
TZOFFSETTO:-0500
TZNAME:CDT
DTSTART:20250309T080000
END:DAYLIGHT
BEGIN:STANDARD
TZOFFSETFROM:-0500
TZOFFSETTO:-0600
TZNAME:CST
DTSTART:20251102T070000
END:STANDARD
END:VTIMEZONE
BEGIN:VEVENT
DTSTART;VALUE=DATE:20240902
DTEND;VALUE=DATE:20240903
DTSTAMP:20260420T221422
CREATED:20240809T204836Z
LAST-MODIFIED:20240809T204836Z
UID:11669-1725235200-1725321599@rhodesschool.org
SUMMARY:Staff/Student Holiday - Labor Day 2024
DESCRIPTION:
URL:https://rhodesschool.org/event/labor-day-2024/
CATEGORIES:District Dates & Events
END:VEVENT
BEGIN:VEVENT
DTSTART;TZID=America/Chicago:20240904T090000
DTEND;TZID=America/Chicago:20240904T090000
DTSTAMP:20260420T221422
CREATED:20240809T205642Z
LAST-MODIFIED:20240829T165752Z
UID:11671-1725440400-1725440400@rhodesschool.org
SUMMARY:Pow Wow with the Principals
DESCRIPTION:
URL:https://rhodesschool.org/event/pow-wow-with-the-principals/
CATEGORIES:District Dates & Events
END:VEVENT
BEGIN:VEVENT
DTSTART;TZID=America/Chicago:20240905T160000
DTEND;TZID=America/Chicago:20240905T163000
DTSTAMP:20260420T221422
CREATED:20240827T213324Z
LAST-MODIFIED:20240827T213324Z
UID:11782-1725552000-1725553800@rhodesschool.org
SUMMARY:Coffee with the Counselor
DESCRIPTION:
URL:https://rhodesschool.org/event/coffee-with-the-counselor-sept24/
CATEGORIES:District Dates & Events
END:VEVENT
BEGIN:VEVENT
DTSTART;TZID=America/Chicago:20240906T073000
DTEND;TZID=America/Chicago:20240906T083000
DTSTAMP:20260420T221422
CREATED:20240827T213556Z
LAST-MODIFIED:20240829T170031Z
UID:11788-1725607800-1725611400@rhodesschool.org
SUMMARY:Grandparents Day Breakfast
DESCRIPTION:
URL:https://rhodesschool.org/event/grandparents-day-breakfast/
CATEGORIES:District Dates & Events
END:VEVENT
BEGIN:VEVENT
DTSTART;TZID=America/Chicago:20240909T170000
DTEND;TZID=America/Chicago:20240909T180000
DTSTAMP:20260420T221422
CREATED:20240828T174528Z
LAST-MODIFIED:20240828T174528Z
UID:11790-1725901200-1725904800@rhodesschool.org
SUMMARY:PTC Interest Meeting
DESCRIPTION:
URL:https://rhodesschool.org/event/ptc-interest-meeting24/
CATEGORIES:District Dates & Events
END:VEVENT
BEGIN:VEVENT
DTSTART;TZID=America/Chicago:20240911T103000
DTEND;TZID=America/Chicago:20240911T130000
DTSTAMP:20260420T221422
CREATED:20240829T170155Z
LAST-MODIFIED:20240829T170155Z
UID:11799-1726050600-1726059600@rhodesschool.org
SUMMARY:Parent Lunch & Learn
DESCRIPTION:
URL:https://rhodesschool.org/event/parent-lunch-learn/
CATEGORIES:District Dates & Events
END:VEVENT
BEGIN:VEVENT
DTSTART;VALUE=DATE:20240912
DTEND;VALUE=DATE:20240916
DTSTAMP:20260420T221422
CREATED:20240829T234739Z
LAST-MODIFIED:20240829T234739Z
UID:11845-1726099200-1726444799@rhodesschool.org
SUMMARY:Reading for Education Fundraiser
DESCRIPTION:
URL:https://rhodesschool.org/event/reading-for-education-fundraiser/
CATEGORIES:District Dates & Events
END:VEVENT
BEGIN:VEVENT
DTSTART;TZID=America/Chicago:20240913T133000
DTEND;TZID=America/Chicago:20240913T133000
DTSTAMP:20260420T221422
CREATED:20240829T172125Z
LAST-MODIFIED:20240829T172125Z
UID:11802-1726234200-1726234200@rhodesschool.org
SUMMARY:Early Release Friday
DESCRIPTION:
URL:https://rhodesschool.org/event/early-release-friday/
CATEGORIES:District Dates & Events
END:VEVENT
BEGIN:VEVENT
DTSTART;TZID=America/Chicago:20240919T080000
DTEND;TZID=America/Chicago:20240919T110000
DTSTAMP:20260420T221422
CREATED:20240919T145010Z
LAST-MODIFIED:20240919T151430Z
UID:12110-1726732800-1726743600@rhodesschool.org
SUMMARY:SNOW Day Perfect Attendance Party
DESCRIPTION:
URL:https://rhodesschool.org/event/snow-day-2024/
CATEGORIES:District Dates & Events
END:VEVENT
BEGIN:VEVENT
DTSTART;TZID=America/Chicago:20240919T173000
DTEND;TZID=America/Chicago:20240919T190000
DTSTAMP:20260420T221422
CREATED:20240827T213408Z
LAST-MODIFIED:20240829T171603Z
UID:11784-1726767000-1726772400@rhodesschool.org
SUMMARY:Hispanic Heritage Night
DESCRIPTION:
URL:https://rhodesschool.org/event/hispanic-heritage-night24/
CATEGORIES:District Dates & Events
END:VEVENT
BEGIN:VEVENT
DTSTART;VALUE=DATE:20240925
DTEND;VALUE=DATE:20240926
DTSTAMP:20260420T221422
CREATED:20240829T173120Z
LAST-MODIFIED:20240829T173152Z
UID:11811-1727222400-1727308799@rhodesschool.org
SUMMARY:School Spirit Night at MOD Pizza
DESCRIPTION:
URL:https://rhodesschool.org/event/school-spirit-night-at-mod-pizza/
CATEGORIES:District Dates & Events
END:VEVENT
BEGIN:VEVENT
DTSTART;TZID=America/Chicago:20240927T093000
DTEND;TZID=America/Chicago:20240927T100000
DTSTAMP:20260420T221422
CREATED:20240829T172445Z
LAST-MODIFIED:20240829T172445Z
UID:11809-1727429400-1727431200@rhodesschool.org
SUMMARY:Toddler Story Time
DESCRIPTION:RSVP HERE!
URL:https://rhodesschool.org/event/toddler-story-time-2/
CATEGORIES:District Dates & Events
END:VEVENT
BEGIN:VEVENT
DTSTART;VALUE=DATE:20240930
DTEND;VALUE=DATE:20241005
DTSTAMP:20260420T221422
CREATED:20240827T213458Z
LAST-MODIFIED:20240827T213458Z
UID:11786-1727654400-1728086399@rhodesschool.org
SUMMARY:Hispanic Heritage Week
DESCRIPTION:
URL:https://rhodesschool.org/event/hispanic-heritage-week24/
CATEGORIES:District Dates & Events
END:VEVENT
END:VCALENDAR